BEGIN:VCALENDAR
VERSION:2.0
PRODID:-//ChurchDev//Events//EN
CALSCALE:GREGORIAN
METHOD:PUBLISH
BEGIN:VEVENT
UID:3513-20200212@www.fbcj.us
SUMMARY:Wednesday Night Activities
DTSTART:20200213T000000Z
DTEND:20200213T010000Z
DESCRIPTION:https://www.fbcj.us/events/wednesday-night-activities/
LOCATION:212 S High St.\, Jackson\, MO\, 63755
URL:https://www.fbcj.us/events/wednesday-night-activities/
DTSTAMP:20260419T213101Z
END:VEVENT
END:VCALENDAR
