BEGIN:VCALENDAR
VERSION:2.0
PRODID:-//ChurchDev//Events//EN
CALSCALE:GREGORIAN
METHOD:PUBLISH
BEGIN:VEVENT
UID:3511-20200216@www.fbcj.us
SUMMARY:Bible Studies
DTSTART;VALUE=DATE:20200216
DTEND;VALUE=DATE:20200217
DESCRIPTION:https://www.fbcj.us/events/bible-studies/
URL:https://www.fbcj.us/events/bible-studies/
DTSTAMP:20260419T213058Z
END:VEVENT
END:VCALENDAR
